Workbook

Sheet Форма 2.8
A1: Форма 2.8. Отчет об исполнении управляющей организацией договора управления, а также о выполнении товариществом, кооперативом смет доходов и расходов
A4: № п/п | B4: Наименование параметра | C4: Ед. изм. | D4: Значение
A5: 1. | B5: Дата заполнения/внесения изменений | C5: – | D5: 28/02/2016
A6: 2. | B6: Дата начала отчетного периода | C6: – | D6: 01/01/2015
A7: 3. | B7: Дата конца отчетного периода | C7: – | D7: 31/12/2015
A8: Общая информация о выполняемых работах (оказываемых услугах) по содержанию и текущему ремонту общего имущества
A9: 4. | B9: Авансовые платежи потребителей (на начало периода) | C9: руб. | D9: 0
A10: 5. | B10: Переходящие остатки денежных средств (на начало периода) | C10: руб. | D10: 0
A11: 6. | B11: Задолженность потребителей (на начало периода) | C11: руб. | D11: =[1]ерц!$Q$15+[1]ерц!$GJ$15+'[1]юл расч.'!$B$31/2 -> 1039965.7
A12: 7. | B12: Начислено за работы (услуги) по содержанию и текущему ремонту, в том числе: | C12: руб. | D12: =[1]ерц!$R$15+[1]ерц!$GK$15+'[1]юл нач.'!$C$500 -> 1654654.7
A13: 8. | B13: – за содержание дома | C13: руб. | D13: 1654654.7
A14: 9. | B14: – за текущий ремонт | C14: руб. | D14: 0
A15: 10. | B15: – за услуги управления | C15: руб. | D15: 0
A16: 11. | B16: Получено денежных средств, в том числе: | C16: руб. | D16: =D17+D161+D20 -> 2046571.3
A17: 12. | B17: – денежных средств от потребителей | C17: руб. | D17: =[1]ерц!$V$15+[1]ерц!$GO$15+'[1]юл нач.'!$E$53 -> 1823983
A18: 13. | B18: – целевых взносов от потребителей | C18: руб. | D18: 0
A19: 14. | B19: – субсидий | C19: руб. | D19: 0
A20: 15. | B20: – денежных средств от использования общего имущества | C20: руб. | D20: ='[1]юл нач.'!$E$54 -> 55260
A21: 16. | B21: – прочие поступления | C21: руб. | D21: 0
A22: 17. | B22: Всего денежных средств с учетом остатков | C22: руб. | D22: =D16 -> 2046571.3
A23: 18. | B23: Авансовые платежи потребителей (на конец периода) | C23: руб. | D23: 0
A24: 19. | B24: Переходящие остатки денежных средств (на конец периода) | C24: руб. | D24: 0
A25: 20. | B25: Задолженность потребителей (на конец периода) | C25: руб. | D25: =D11+D12-D16+D20 -> 703309.19
A26: Выполненные работы (оказанные услуги) по содержанию общего имущества и текущему ремонту в отчетном периоде (заполняется по каждому виду работы (услуги))
A28: 21. | B28: Наименование работы (услуги) | C28: – | D28: Уборка мест общего пользования
A29: 22. | B29: Годовая фактическая стоимость работ (услуг) | C29: руб. | D29: ='[1]20'!$H$240 -> 169173.12
A31: 21. | B31: Наименование работы (услуги) | C31: – | D31: Уборка придомовой территории
A32: 22. | B32: Годовая фактическая стоимость работ (услуг) | C32: руб. | D32: ='[1]20'!$H$241 -> 32016
A34: 21. | B34: Наименование работы (услуги) | C34: – | D34: Вывоз твердых бытовых отходов и КГМ
A35: 22. | B35: Годовая фактическая стоимость работ (услуг) | C35: руб. | D35: ='[1]20'!$H$235 -> 399542.62
A37: 21. | B37: Наименование работы (услуги) | C37: – | D37: Аварийно – техническое обслуживание
A38: 22. | B38: Годовая фактическая стоимость работ (услуг) | C38: руб. | D38: ='[1]20'!$H$234 -> 283072.68
A40: 21. | B40: Наименование работы (услуги) | C40: – | D40: Диспетчерское обслуживание
A41: 22. | B41: Годовая фактическая стоимость работ (услуг) | C41: руб. | D41: ='[1]20'!$H$236 -> 42889.8
A43: 21. | B43: Наименование работы (услуги) | C43: – | D43: Обслуживание УКУТ
A44: 22. | B44: Годовая фактическая стоимость работ (услуг) | C44: руб. | D44: 27000
A46: 21. | B46: Наименование работы (услуги) | C46: – | D46: Дератизация, Дезинсекция
A47: 22. | B47: Годовая фактическая стоимость работ (услуг) | C47: руб. | D47: 0
A49: 21. | B49: Наименование работы (услуги) | C49: – | D49: Содержание лифтов
A50: 22. | B50: Годовая фактическая стоимость работ (услуг) | C50: руб. | D50: ='[1]20'!$H$239+'[1]20'!$H$247 -> 226142.89
A52: 21. | B52: Наименование работы (услуги) | C52: – | D52: Охрана прилегающей территории, система доступа
A53: 22. | B53: Годовая фактическая стоимость работ (услуг) | C53: руб. | D53: ='[1]20'!$H$226 -> 41127.273
A55: 21. | B55: Наименование работы (услуги) | C55: – | D55: Прочие работы и услуги
A56: 22. | B56: Годовая фактическая стоимость работ (услуг) | C56: руб. | D56: ='[1]20'!$H$223+'[1]20'!$H$237+'[1]20'!$H$243+'[1]20'!$H$244+'[1]20'!$H$245+'[1]20'!$H$246+'[1]20'!$H$248+'[1]20'!$H$249+'[1]20'!$H$251 -> 119792.65
A57: 21. | B57: Наименование работы (услуги) | C57: – | D57: Услуги по постановке и снятию граждан с регистрации по месту жительства и месту пребывания.
A58: 22. | B58: Годовая фактическая стоимость работ (услуг) | C58: руб. | D58: ='[1]26'!$J$29 -> 16811.381
A60: 21. | B60: Наименование работы (услуги) | C60: – | D60: Услуги по ведению лицевых счетов по начислениям платы за жилое помещение и коммунальные услуги и приём денежных средств
A61: 22. | B61: Годовая фактическая стоимость работ (услуг) | C61: руб. | D61: ='[1]26'!$J$26 -> 177600.55
A63: 21. | B63: Наименование работы (услуги) | C63: – | D63: Управленческие расходы
A64: 22. | B64: Годовая фактическая стоимость работ (услуг) | C64: руб. | D64: ='[1]26'!$J$25 -> 260589.5
A66: 21. | B66: Наименование работы (услуги) | C66: – | D66: Бухгалтерские услуги
A67: 22. | B67: Годовая фактическая стоимость работ (услуг) | C67: руб. | D67: ='[1]26'!$J$27 -> 56404.929
A69: 21. | B69: Наименование работы (услуги) | C69: – | D69: Услуги по взысканию задолженности с населения
A70: 22. | B70: Годовая фактическая стоимость работ (услуг) | C70: руб. | D70: ='[1]26'!$J$30 -> 18049.577
A72: 21. | B72: Наименование работы (услуги) | C72: – | D72: Реконструкция входной группы лифтового холла
A73: 22. | B73: Годовая фактическая стоимость работ (услуг) | C73: руб. | D73: ='[1]20'!$H$232 -> 65506.909
A75: Детальный перечень выполненных работ (оказанных услуг) в рамках выбранной работы (услуги) (заполняется по каждой выполненной работе (оказанной услуге) в пункте 21 настоящего документа).
A76: 23. | B76: Наименование работы (услуги), выполняемой в рамках указанного раздела работ (услуг) | C76: – | D76: Уборка мест общего пользования
A77: 24. | B77: Периодичность выполнения работ (оказания услуг) | C77: – | D77: 5 раз в неделю
A78: 25. | B78: Единица измерения | C78: – | D78: кв.м.
A79: 26. | B79: Стоимость на единицу измерения | C79: руб. | D79: 13.6
A80: 23. | B80: Наименование работы (услуги), выполняемой в рамках указанного раздела работ (услуг) | C80: – | D80: Уборка придомовой территории
A81: 24. | B81: Периодичность выполнения работ (оказания услуг) | C81: – | D81: 5 раз в неделю
A82: 25. | B82: Единица измерения | C82: – | D82: кв.м.
A83: 26. | B83: Стоимость на единицу измерения | C83: руб. | D83: 5.8
A84: 23. | B84: Наименование работы (услуги), выполняемой в рамках указанного раздела работ (услуг) | C84: – | D84: Вывоз твердых бытовых отходов и КГМ
A85: 24. | B85: Периодичность выполнения работ (оказания услуг) | C85: – | D85: Ежедневно
A86: 25. | B86: Единица измерения | C86: – | D86: кв.м.
A87: 26. | B87: Стоимость на единицу измерения | C87: руб. | D87: 55.89
A88: 23. | B88: Наименование работы (услуги), выполняемой в рамках указанного раздела работ (услуг) | C88: – | D88: Аварийно – техническое обслуживание
A89: 24. | B89: Периодичность выполнения работ (оказания услуг) | C89: – | D89: Круглосуточно
A90: 25. | B90: Единица измерения | C90: – | D90: кв.м.
A91: 26. | B91: Стоимость на единицу измерения | C91: руб. | D91: 3.3
A92: 23. | B92: Наименование работы (услуги), выполняемой в рамках указанного раздела работ (услуг) | C92: – | D92: Диспетчерское обслуживание
A93: 24. | B93: Периодичность выполнения работ (оказания услуг) | C93: – | D93: Круглосуточно
A94: 25. | B94: Единица измерения | C94: – | D94: кв.м.
A95: 26. | B95: Стоимость на единицу измерения | C95: руб. | D95: 0.5
A96: 23. | B96: Наименование работы (услуги), выполняемой в рамках указанного раздела работ (услуг) | C96: – | D96: Обслуживание УКУТ
A97: 24. | B97: Периодичность выполнения работ (оказания услуг) | C97: – | D97: 1 раз в месяц
A98: 25. | B98: Единица измерения | C98: – | D98: шт.
A99: 26. | B99: Стоимость на единицу измерения | C99: руб. | D99: 2250
A100: 23. | B100: Наименование работы (услуги), выполняемой в рамках указанного раздела работ (услуг) | C100: – | D100: Дератизация, Дезинсекция
A101: 24. | B101: Периодичность выполнения работ (оказания услуг) | C101: – | D101: -
A102: 25. | B102: Единица измерения | C102: – | D102: -
A103: 26. | B103: Стоимость на единицу измерения | C103: руб. | D103: -
A104: 23. | B104: Наименование работы (услуги), выполняемой в рамках указанного раздела работ (услуг) | C104: – | D104: Содержание лифтов
A105: 24. | B105: Периодичность выполнения работ (оказания услуг) | C105: – | D105: Ежедневно
A106: 25. | B106: Единица измерения | C106: – | D106: кв.м.
A107: 26. | B107: Стоимость на единицу измерения | C107: руб. | D107: 31.63
A108: 23. | B108: Наименование работы (услуги), выполняемой в рамках указанного раздела работ (услуг) | C108: – | D108: Охрана прилегающей территории, контроль доступа
A109: 24. | B109: Периодичность выполнения работ (оказания услуг) | C109: – | D109: Ежедневно
A110: 25. | B110: Единица измерения | C110: – | D110: кв.м.
A111: 26. | B111: Стоимость на единицу измерения | C111: руб. | D111: 5.75
A112: 23. | B112: Наименование работы (услуги), выполняемой в рамках указанного раздела работ (услуг) | C112: – | D112: Прочие работы и услуги
A113: 24. | B113: Периодичность выполнения работ (оказания услуг) | C113: – | D113: Ежедневно
A114: 25. | B114: Единица измерения | C114: – | D114: кв.м.
A115: 26. | B115: Стоимость на единицу измерения | C115: руб. | D115: 16.76
A116: 23. | B116: Наименование работы (услуги), выполняемой в рамках указанного раздела работ (услуг) | C116: – | D116: Услуги по постановке и снятию граждан с регистрации по месту жительства и месту пребывания.
A117: 24. | B117: Периодичность выполнения работ (оказания услуг) | C117: – | D117: Постоянно
A118: 25. | B118: Единица измерения | C118: – | D118: кв.м.
...

Sheet Лист2

Sheet Лист3
